BEGIN:VCALENDAR
VERSION:2.0
PRODID:GIGPRESS 2.0 WORDPRESS PLUGIN
CALSCALE:GREGORIAN
X-WR-TIMEZONE:Etc/GMT
METHOD:PUBLISH
BEGIN:VTIMEZONE
TZID:GMT
BEGIN:STANDARD
DTSTART:20071028T010000
TZOFFSETTO:+0000
TZOFFSETFROM:+0000
END:STANDARD
END:VTIMEZONE
BEGIN:VEVENT
SUMMARY:Thomas Fheodoroff \, Stift Altenburg\, Bibliothek
DESCRIPTION:Anmerkungen: <b>"Auserlesenes"</b><br>  E. Wolf-Ferarri\, Canzoniere für Bariton und Klavier\, Streichtrio a-Moll op. 32<br>  W. A. Mozart\, Flötenquartett C-Dur KV 285b<br>  A. Dvořák\, Streichsextett A-Dur op. 48<br>  <br>  Wally Hase\, Flöte<br>  Wolfgang Bankl\, Gesang<br>  Christian Altenburger\, Violine<br>  Thomas Fheodoroff\, Violine<br>  Thomas Selditz\, Viola<br>  Manca Kosmač\, Viola<br>  László Fenyö\, Cello<br>  Thomas Carroll\, Cello<br> 
LOCATION:Stift Altenburg\, Bibliothek\, Altenburg\, AT
UID:20260902T170000Z-119-germain.st-pierre@ensemble-prisma.at
URL:http://ensemble-prisma.at
DTSTART;VALUE=DATE-TIME;TZID=GMT:20260902T170000Z
DTEND;VALUE=DATE-TIME;TZID=GMT:20260902T170000Z
DTSTAMP:20260423T105453Z
END:VEVENT
END:VCALENDAR