BEGIN:VCALENDAR
VERSION:2.0
PRODID:GIGPRESS 2.0 WORDPRESS PLUGIN
CALSCALE:GREGORIAN
X-WR-TIMEZONE:Etc/GMT
METHOD:PUBLISH
BEGIN:VTIMEZONE
TZID:GMT
BEGIN:STANDARD
DTSTART:20071028T010000
TZOFFSETTO:+0000
TZOFFSETFROM:+0000
END:STANDARD
END:VTIMEZONE
BEGIN:VEVENT
SUMMARY:Kärntner Barockorchester \, Konzerthaus Klagenfurt\, mittlerer Saal
DESCRIPTION:Anmerkungen: <b>Orient Express<br>  Exotische Barockmusik von Wien bis Istanbul</b><br>  Ballets de cour\, Concerti und Suiten von J. J. Fux\, J.-Ph. Rameau u. v. m.<br>  sowie traditionelle Musik aus Südosteuropa und dem Nahen Osten<br> 
LOCATION:Konzerthaus Klagenfurt\, mittlerer Saal\, Mießtalerstr. 8\, Klagenfurt\, AT
UID:20261129T160000Z-118-germain.st-pierre@ensemble-prisma.at
URL:http://ensemble-prisma.at
DTSTART;VALUE=DATE-TIME;TZID=GMT:20261129T160000Z
DTEND;VALUE=DATE-TIME;TZID=GMT:20261129T160000Z
DTSTAMP:20260423T110001Z
END:VEVENT
END:VCALENDAR