BEGIN:VCALENDAR
VERSION:2.0
PRODID:GIGPRESS 2.0 WORDPRESS PLUGIN
CALSCALE:GREGORIAN
X-WR-TIMEZONE:Etc/GMT
METHOD:PUBLISH
BEGIN:VTIMEZONE
TZID:GMT
BEGIN:STANDARD
DTSTART:20071028T010000
TZOFFSETTO:+0000
TZOFFSETFROM:+0000
END:STANDARD
END:VTIMEZONE
BEGIN:VEVENT
SUMMARY:Thomas Fheodoroff \, Festspielhaus Bregenz
DESCRIPTION:Anmerkungen: <b>Irrfahrten - Tobias Moretti<br>  Benefiz-Lesung</b><br>  Mit dem Ensemble <b>wood sounds</b> 
LOCATION:Festspielhaus Bregenz\, Platz der Wiener Symphoniker 1\, Bregenz\, AT
UID:20260427T173000Z-116-germain.st-pierre@ensemble-prisma.at
URL:http://ensemble-prisma.at
DTSTART;VALUE=DATE-TIME;TZID=GMT:20260427T173000Z
DTEND;VALUE=DATE-TIME;TZID=GMT:20260427T173000Z
DTSTAMP:20260423T110059Z
END:VEVENT
END:VCALENDAR