BEGIN:VCALENDAR
VERSION:2.0
PRODID:GIGPRESS 2.0 WORDPRESS PLUGIN
CALSCALE:GREGORIAN
X-WR-TIMEZONE:Etc/GMT
METHOD:PUBLISH
BEGIN:VTIMEZONE
TZID:GMT
BEGIN:STANDARD
DTSTART:20071028T010000
TZOFFSETTO:+0000
TZOFFSETFROM:+0000
END:STANDARD
END:VTIMEZONE
BEGIN:VEVENT
SUMMARY:Prisma Wien \, Wiener Musikverein - Brahms-Saal
DESCRIPTION:Anmerkungen: <b>Aus der Schatzkammer</b><br>  Barockes aus Kirche\, Kammer\, Oper<br>  Werke von Antonio Caldara\, Francesco Conti\, Johann Joseph Fux\, Marc‘Antonio Ziani u.a.<br>  Ensemble Prisma Wien<br>  Thomas Fheodoroff\, künstlerische Leitung und Violine<br>  Johannes Prominczel\, Moderation<br> 
LOCATION:Wiener Musikverein - Brahms-Saal\, Wien\, AT
UID:20261211T183000Z-115-germain.st-pierre@ensemble-prisma.at
URL:http://ensemble-prisma.at
DTSTART;VALUE=DATE-TIME;TZID=GMT:20261211T183000Z
DTEND;VALUE=DATE-TIME;TZID=GMT:20261211T183000Z
DTSTAMP:20260423T105915Z
END:VEVENT
END:VCALENDAR