BEGIN:VCALENDAR
VERSION:2.0
PRODID:GIGPRESS 2.0 WORDPRESS PLUGIN
CALSCALE:GREGORIAN
X-WR-TIMEZONE:Etc/GMT
METHOD:PUBLISH
BEGIN:VTIMEZONE
TZID:GMT
BEGIN:STANDARD
DTSTART:20071028T010000
TZOFFSETTO:+0000
TZOFFSETFROM:+0000
END:STANDARD
END:VTIMEZONE
BEGIN:VEVENT
SUMMARY:Masterclass / Meisterkurs Thomas Fheodoroff \, Allegro Vivo Festival Austria
DESCRIPTION:
LOCATION:Allegro Vivo Festival Austria\, Horn\, Waldviertel\, AT
UID:20260829-114-germain.st-pierre@ensemble-prisma.at
URL:http://ensemble-prisma.at
DTSTART;VALUE=DATE;TZID=GMT:20260829
DTEND;VALUE=DATE;TZID=GMT:20260906
DTSTAMP:20260423T105555Z
END:VEVENT
END:VCALENDAR