BEGIN:VCALENDAR
VERSION:2.0
PRODID:GIGPRESS 2.0 WORDPRESS PLUGIN
CALSCALE:GREGORIAN
X-WR-TIMEZONE:Etc/GMT
METHOD:PUBLISH
BEGIN:VTIMEZONE
TZID:GMT
BEGIN:STANDARD
DTSTART:20071028T010000
TZOFFSETTO:+0000
TZOFFSETFROM:+0000
END:STANDARD
END:VTIMEZONE
BEGIN:VEVENT
SUMMARY:Masterclass / Meisterkurs Thomas Fheodoroff \, Talent Music Master Courses
DESCRIPTION:
LOCATION:Talent Music Master Courses\, Brescia\, IT
UID:20260706-113-germain.st-pierre@ensemble-prisma.at
URL:http://ensemble-prisma.at
DTSTART;VALUE=DATE;TZID=GMT:20260706
DTEND;VALUE=DATE;TZID=GMT:20260712
DTSTAMP:20260423T105230Z
END:VEVENT
END:VCALENDAR