BEGIN:VCALENDAR
VERSION:2.0
PRODID:GIGPRESS 2.0 WORDPRESS PLUGIN
CALSCALE:GREGORIAN
X-WR-TIMEZONE:Etc/GMT
METHOD:PUBLISH
BEGIN:VTIMEZONE
TZID:GMT
BEGIN:STANDARD
DTSTART:20071028T010000
TZOFFSETTO:+0000
TZOFFSETFROM:+0000
END:STANDARD
END:VTIMEZONE
BEGIN:VEVENT
SUMMARY:Thomas Fheodoroff \, Münchner Künstlerhaus - Festsaal
DESCRIPTION:Anmerkungen: Starke Stimmen<br>  <b>Tobias Moretti:</b><br>  Irrfahrten – Vom Entdecken\, Verlieren und Wiederfinden<br>  Mit dem Ensemble <b>wood sounds</b> 
LOCATION:Münchner Künstlerhaus - Festsaal\, Lenbachplatz 8\, München\, DE
UID:20260425T173000Z-111-germain.st-pierre@ensemble-prisma.at
URL:http://ensemble-prisma.at
DTSTART;VALUE=DATE-TIME;TZID=GMT:20260425T173000Z
DTEND;VALUE=DATE-TIME;TZID=GMT:20260425T173000Z
DTSTAMP:20260423T110100Z
END:VEVENT
END:VCALENDAR